View In:
ArcGIS JavaScript
ArcGIS Online Map Viewer
ArcGIS Earth
Service Description: Pensionnats-Schools/Indian_Residential_School_Historical_Aerial_Photo
Name: Pensionnats-Schools/Indian_Residential_School_Historical_Aerial_Photo
Description:
Single Fused Map Cache: false
Extent:
XMin: -139.46960657165985
YMin: 42.75440115963376
XMax: -63.394729577473726
YMax: 72.7133841662453
Spatial Reference: 4326
(4326)
LatestVCSWkid(0)
Initial Extent:
XMin: -139.46960657165985
YMin: 42.75440115963376
XMax: -63.394729577473726
YMax: 72.7133841662453
Spatial Reference: 4326
(4326)
LatestVCSWkid(0)
Full Extent:
XMin: -139.46960657165985
YMin: 42.75440115963376
XMax: -63.394729577473726
YMax: 72.7133841662453
Spatial Reference: 4326
(4326)
LatestVCSWkid(0)
Pixel Size X: 7.325444814986517E-7
Pixel Size Y: 7.325444814986518E-7
Band Count: 1
Pixel Type: U8
RasterFunction Infos: {"rasterFunctionInfos": [{
"name": "None",
"description": "A No-Op Function.",
"help": ""
}]}
Mensuration Capabilities: Basic
Inspection Capabilities:
Has Histograms: false
Has Colormap: false
Has Multi Dimensions : false
Rendering Rule:
Min Scale: 0
Max Scale: 0
Copyright Text:
Service Data Type: esriImageServiceDataTypeGeneric
Min Values: N/A
Max Values: N/A
Mean Values: N/A
Standard Deviation Values: N/A
Object ID Field: OBJECTID
Fields:
-
OBJECTID
(
type: esriFieldTypeOID, alias: OBJECTID
)
-
Shape
(
type: esriFieldTypeGeometry, alias: Shape
)
-
Name
(
type: esriFieldTypeString, alias: Name, length: 200
)
-
MinPS
(
type: esriFieldTypeDouble, alias: MinPS
)
-
MaxPS
(
type: esriFieldTypeDouble, alias: MaxPS
)
-
LowPS
(
type: esriFieldTypeDouble, alias: LowPS
)
-
HighPS
(
type: esriFieldTypeDouble, alias: HighPS
)
-
Category
(
type: esriFieldTypeInteger, alias: Category
, Coded Values:
[0: Unknown]
, [1: Primary]
, [2: Overview]
, ...6 more...
)
-
Tag
(
type: esriFieldTypeString, alias: Tag, length: 100
)
-
GroupName
(
type: esriFieldTypeString, alias: GroupName, length: 100
)
-
ProductName
(
type: esriFieldTypeString, alias: Product Name, length: 100
)
-
CenterX
(
type: esriFieldTypeDouble, alias: CenterX
)
-
CenterY
(
type: esriFieldTypeDouble, alias: CenterY
)
-
ZOrder
(
type: esriFieldTypeInteger, alias: ZOrder
)
-
SOrder
(
type: esriFieldTypeInteger, alias: SOrder
)
-
SLevelPS
(
type: esriFieldTypeDouble, alias: SLevelPS
)
-
PHOTO_NUMBER
(
type: esriFieldTypeString, alias: Photography number, length: 25
)
-
PHOTO_DATE
(
type: esriFieldTypeString, alias: Photography date, length: 12
)
-
PHOTO_SCALE
(
type: esriFieldTypeInteger, alias: Photography scale
)
-
PROVINCE_EN
(
type: esriFieldTypeString, alias: Province or territory, length: 30
)
-
IRS_NAME_EN
(
type: esriFieldTypeString, alias: Residential School name, length: 160
)
-
SITE_COUNT
(
type: esriFieldTypeSmallInteger, alias: Number of sites
)
-
IRS_OPERATING_PERIOD
(
type: esriFieldTypeString, alias: Operating period, length: 10
)
-
PHOTO_PERIOD_EN
(
type: esriFieldTypeString, alias: Photography period, length: 50
)
-
Shape_Length
(
type: esriFieldTypeDouble, alias: Shape_Length
)
-
Shape_Area
(
type: esriFieldTypeDouble, alias: Shape_Area
)
Default Mosaic Method: Seamline
Allowed Mosaic Methods: Seamline,NorthWest,Center,LockRaster,ByAttribute,Nadir,Viewpoint,None
SortField:
SortValue: null
Mosaic Operator: First
Default Compression Quality: 75
Default Resampling Method: Bilinear
Max Record Count: 1000
Max Image Height: 4100
Max Image Width: 15000
Max Download Image Count: 20
Max Mosaic Image Count: 20
Allow Raster Function: true
Allow Copy: true
Allow Analysis: true
Allow Compute TiePoints: false
Supports Statistics: true
Supports Advanced Queries: true
Use StandardizedQueries: true
Raster Type Infos:
Name: Raster Dataset
Description: Supports all ArcGIS Raster Datasets
Help:
Has Raster Attribute Table: false
Edit Fields Info: null
Ownership Based AccessControl For Rasters: null
Child Resources:
Info
Statistics
Key Properties
Legend
Raster Function Infos
Supported Operations:
Export Image
Query
Identify
Download Rasters
Get Image Url
Measure
Compute Histograms
Compute Statistics Histograms
Get Samples
Compute Class Statistics
Query GPS Info
Find Images
Image to Map
Map to Image
Measure from Image
Image to Map Multiray
Query Boundary
Compute Pixel Location
Compute Angles
Validate
Project