{
 "currentVersion": 11.5,
 "serviceDescription": "To support a wide range of efforts to understand the geographic context and historical conditions of the Indian Residential Schools sites for a wide range of stakeholders, Indigenous Services Canada has created a web-based layer to access and visualize Historical Aerial Photography for those sites.\n\n \n\nThe Historical Aerial Photography of Indian Residential Schools dataset contain digital scans of aerial photographs that were acquired from 1924 to 1998 over Indian Residential school sites and surrounding areas across Canada. The digital scans were georeferenced, to match ground coordinates, saved in a resampled uncompressed raster format and compiled in a single mosaic layer along with attribute information for each photo such as date of photography. These are by no means the complete range of aerial photographs of each site, but instead an attempt has been made to select a single optimal photograph for each site that is of good photographic quality and acquired during each site\u2019s years of operation. In some cases no photograph is available, and in others a photograph was only available after the years of operation. The source scanned prints was obtained from the archives of the National Air Photo Library (NAPL) of Natural Resources Canada (NRCAN).\n\n \n\nThe Historical Aerial Photography of Indian Residential Schools dataset is in a web readable dynamic imagery service (ESRI Rest), which means it can be both viewed in an internet browser or added as a layer into a wide range of mapping software and applications. The Indigenous Services Canada\u2019s Geomatics Service is continuing to add Historical Aerial Photographs and this dataset should be considered evergreen as new information and photography sources are identified. ",
 "name": "Pensionnats-Schools/National_Imagery",
 "description": "To support a wide range of efforts to understand the geographic context and historical conditions of the Indian Residential Schools sites for a wide range of stakeholders, Indigenous Services Canada has created a web-based layer to access and visualize Historical Aerial Photography for those sites.\n\n \n\nThe Historical Aerial Photography of Indian Residential Schools dataset contain digital scans of aerial photographs that were acquired from 1924 to 1998 over Indian Residential school sites and surrounding areas across Canada. The digital scans were georeferenced, to match ground coordinates, saved in a resampled uncompressed raster format and compiled in a single mosaic layer along with attribute information for each photo such as date of photography. These are by no means the complete range of aerial photographs of each site, but instead an attempt has been made to select a single optimal photograph for each site that is of good photographic quality and acquired during each site\u2019s years of operation. In some cases no photograph is available, and in others a photograph was only available after the years of operation. The source scanned prints was obtained from the archives of the National Air Photo Library (NAPL) of Natural Resources Canada (NRCAN).\n\n \n\nThe Historical Aerial Photography of Indian Residential Schools dataset is in a web readable dynamic imagery service (ESRI Rest), which means it can be both viewed in an internet browser or added as a layer into a wide range of mapping software and applications. The Indigenous Services Canada\u2019s Geomatics Service is continuing to add Historical Aerial Photographs and this dataset should be considered evergreen as new information and photography sources are identified. ",
 "extent": {
  "xmin": -139.46960619480427,
  "ymin": 43.10990049499304,
  "xmax": -63.39472968798313,
  "ymax": 72.71338376360487,
  "spatialReference": {
   "wkid": 4326,
   "latestWkid": 4326
  }
 },
 "initialExtent": {
  "xmin": -139.46960619480427,
  "ymin": 43.10990049499304,
  "xmax": -63.39472968798313,
  "ymax": 72.71338376360487,
  "spatialReference": {
   "wkid": 4326,
   "latestWkid": 4326
  }
 },
 "fullExtent": {
  "xmin": -139.46960619480427,
  "ymin": 43.10990049499304,
  "xmax": -63.39472968798313,
  "ymax": 72.71338376360487,
  "spatialReference": {
   "wkid": 4326,
   "latestWkid": 4326
  }
 },
 "sortableFields": "",
 "bandCount": 1,
 "pixelType": "U8",
 "minValues": [
  10
 ],
 "maxValues": [
  255
 ],
 "meanValues": [
  136.99173553719012
 ],
 "stdvValues": [
  47.46121805581818
 ],
 "serviceProperties": "Seamline<\/MosaicMethod>First<\/MosaicOperator>true<\/SortAscending><\/LockImageID>Name<\/TileOrderField>0<\/TileOrderBase>600.000000<\/AvgImageSpacingX>300.000000<\/AvgImageSpacingY>0.0<\/ViewPointX>0.0<\/ViewPointY>0.0<\/ViewPointDefShiftX>0.0<\/ViewPointDefShiftY>None<\/CompressionMethod>75<\/CompressionQuality>0.010000<\/CompressionTolerance>Bilinear<\/SamplingMethod><\/ImageServiceProperties><\/ImageServer>",
 "allowedFields": "Name,MinPS,MaxPS,LowPS,HighPS,Tag,GroupName,ProductName,CenterX,CenterY,ZOrder,Shape_Length,Shape_Area,SOrder,SLevelPS,SchoolID,LocID,LocName,Image_nb,ROLL_NUMBE,PHOTO_NUMB,NAPL_DATE,LocEarlyYR,LocLastYR,ImageTime,SchoolVisibility,BldgStatus,SCALE",
 "hasMultidimensions": false,
 "pixelSizeX": 1.0886069312645406E-6,
 "pixelSizeY": 1.0886069312645406E-6,
 "meanPixelSize": 0.1211831692623968,
 "datasetFormat": "AMD",
 "uncompressedSize": 1900386185130314,
 "blockWidth": 2048,
 "blockHeight": 256,
 "compressionType": "None",
 "bandNames": [
  "Band_1"
 ],
 "allowCopy": true,
 "allowAnalysis": true,
 "itemAccess": false,
 "inspectionCapabilities": "",
 "noDataValue": 0,
 "noDataValues": [
  0
 ],
 "minPixelSize": 0,
 "maxPixelSize": 0,
 "copyrightText": "",
 "serviceDataType": "esriImageServiceDataTypeGeneric",
 "serviceSourceType": "esriImageServiceSourceTypeMosaicDataset",
 "objectIdField": "OBJECTID",
 "fields": [
  {
   "name": "OBJECTID",
   "type": "esriFieldTypeOID",
   "alias": "OBJECTID",
   "domain": null
  },
  {
   "name": "Shape",
   "type": "esriFieldTypeGeometry",
   "alias": "Shape",
   "domain": null
  },
  {
   "name": "Name",
   "type": "esriFieldTypeString",
   "alias": "Name",
   "domain": null,
   "length": 200
  },
  {
   "name": "MinPS",
   "type": "esriFieldTypeDouble",
   "alias": "MinPS",
   "domain": null
  },
  {
   "name": "MaxPS",
   "type": "esriFieldTypeDouble",
   "alias": "MaxPS",
   "domain": null
  },
  {
   "name": "LowPS",
   "type": "esriFieldTypeDouble",
   "alias": "LowPS",
   "domain": null
  },
  {
   "name": "HighPS",
   "type": "esriFieldTypeDouble",
   "alias": "HighPS",
   "domain": null
  },
  {
   "name": "Category",
   "type": "esriFieldTypeInteger",
   "alias": "Category",
   "domain": {
    "type": "codedValue",
    "name": "MosaicCatalogItemCategoryDomain",
    "description": "Catalog item categories.",
    "codedValues": [
     {
      "name": "Unknown",
      "code": 0
     },
     {
      "name": "Primary",
      "code": 1
     },
     {
      "name": "Overview",
      "code": 2
     },
     {
      "name": "Unprocessed Overview",
      "code": 3
     },
     {
      "name": "Partial Overview",
      "code": 4
     },
     {
      "name": "Inactive",
      "code": 5
     },
     {
      "name": "Uploaded",
      "code": 253
     },
     {
      "name": "Incomplete",
      "code": 254
     },
     {
      "name": "Custom",
      "code": 255
     }
    ],
    "mergePolicy": "esriMPTDefaultValue",
    "splitPolicy": "esriSPTDefaultValue"
   }
  },
  {
   "name": "Tag",
   "type": "esriFieldTypeString",
   "alias": "Tag",
   "domain": null,
   "length": 100
  },
  {
   "name": "GroupName",
   "type": "esriFieldTypeString",
   "alias": "GroupName",
   "domain": null,
   "length": 100
  },
  {
   "name": "ProductName",
   "type": "esriFieldTypeString",
   "alias": "ProductName",
   "domain": null,
   "length": 100
  },
  {
   "name": "CenterX",
   "type": "esriFieldTypeDouble",
   "alias": "CenterX",
   "domain": null
  },
  {
   "name": "CenterY",
   "type": "esriFieldTypeDouble",
   "alias": "CenterY",
   "domain": null
  },
  {
   "name": "ZOrder",
   "type": "esriFieldTypeInteger",
   "alias": "ZOrder",
   "domain": null
  },
  {
   "name": "Shape_Length",
   "type": "esriFieldTypeDouble",
   "alias": "Shape_Length",
   "domain": null
  },
  {
   "name": "Shape_Area",
   "type": "esriFieldTypeDouble",
   "alias": "Shape_Area",
   "domain": null
  },
  {
   "name": "SOrder",
   "type": "esriFieldTypeInteger",
   "alias": "SOrder",
   "domain": null
  },
  {
   "name": "SLevelPS",
   "type": "esriFieldTypeDouble",
   "alias": "SLevelPS",
   "domain": null
  },
  {
   "name": "SchoolID",
   "type": "esriFieldTypeString",
   "alias": "SchoolID",
   "domain": null,
   "length": 50
  },
  {
   "name": "LocID",
   "type": "esriFieldTypeString",
   "alias": "LocID",
   "domain": null,
   "length": 50
  },
  {
   "name": "LocName",
   "type": "esriFieldTypeString",
   "alias": "LocName",
   "domain": null,
   "length": 150
  },
  {
   "name": "Image_nb",
   "type": "esriFieldTypeString",
   "alias": "Image_nb",
   "domain": null,
   "length": 50
  },
  {
   "name": "ROLL_NUMBE",
   "type": "esriFieldTypeString",
   "alias": "ROLL_NUMBE",
   "domain": null,
   "length": 50
  },
  {
   "name": "PHOTO_NUMB",
   "type": "esriFieldTypeString",
   "alias": "PHOTO_NUMB",
   "domain": null,
   "length": 50
  },
  {
   "name": "NAPL_DATE",
   "type": "esriFieldTypeString",
   "alias": "NAPL_DATE",
   "domain": null,
   "length": 50
  },
  {
   "name": "LocEarlyYR",
   "type": "esriFieldTypeString",
   "alias": "LocEarlyYR",
   "domain": null,
   "length": 50
  },
  {
   "name": "LocLastYR",
   "type": "esriFieldTypeString",
   "alias": "LocLastYR",
   "domain": null,
   "length": 50
  },
  {
   "name": "ImageTime",
   "type": "esriFieldTypeString",
   "alias": "ImageTime",
   "domain": null,
   "length": 50
  },
  {
   "name": "SchoolVisibility",
   "type": "esriFieldTypeString",
   "alias": "SchoolVisibility",
   "domain": null,
   "length": 50
  },
  {
   "name": "BldgStatus",
   "type": "esriFieldTypeString",
   "alias": "BldgStatus",
   "domain": null,
   "length": 50
  },
  {
   "name": "SCALE",
   "type": "esriFieldTypeString",
   "alias": "SCALE",
   "domain": null,
   "length": 50
  }
 ],
 "capabilities": "Catalog,Download,Image,Metadata",
 "defaultMosaicMethod": "Seamline",
 "allowedMosaicMethods": "Seamline,NorthWest,Center,LockRaster,ByAttribute,Nadir,Viewpoint,None",
 "sortField": "",
 "sortValue": null,
 "sortAscending": true,
 "mosaicOperator": "First",
 "maxDownloadSizeLimit": 2048,
 "defaultCompressionQuality": 75,
 "defaultResamplingMethod": "Bilinear",
 "maxImageHeight": 4100,
 "maxImageWidth": 15000,
 "maxRecordCount": 1000,
 "maxDownloadImageCount": 20,
 "maxMosaicImageCount": 20,
 "allowRasterFunction": true,
 "rasterFunctionInfos": [
  {
   "name": "None",
   "description": "A No-Op Function.",
   "help": ""
  }
 ],
 "rasterTypeInfos": [
  {
   "name": "Raster Dataset",
   "description": "Supports all ArcGIS Raster Datasets",
   "help": ""
  }
 ],
 "mensurationCapabilities": "None",
 "hasHistograms": true,
 "hasColormap": false,
 "hasRasterAttributeTable": false,
 "minScale": 0,
 "maxScale": 0,
 "exportTilesAllowed": false,
 "supportsStatistics": true,
 "supportsAdvancedQueries": true,
 "editFieldsInfo": null,
 "ownershipBasedAccessControlForRasters": null,
 "allowComputeTiePoints": false,
 "useStandardizedQueries": true,
 "advancedQueryCapabilities": {
  "useStandardizedQueries": true,
  "supportsStatistics": true,
  "supportsOrderBy": true,
  "supportsDistinct": true,
  "supportsPagination": true
 },
 "spatialReference": {
  "wkid": 4326,
  "latestWkid": 4326
 },
 "resampling": false
}
